BEGIN:VCALENDAR
VERSION:2.0
PRODID:-//hacksw/handcal//NONSGML v1.0//EN
BEGIN:VEVENT
SUMMARY:LES GALIPES CHAMPENOISES
UID:cf924f93-4f51-469a-9450-c15a5f08c277
DTSTART:20260621T050000Z
DTEND:20260621T120000Z
LOCATION:Localisation 31 rue du Pave 51500 Rilly-la-Montagne
CATEGORIES:Sportif
STATUS:
DESCRIPTION:<p>Tres belle randonnee a faire absolument.</p>
 
 <p>-
 21/06/2026 : retrouvez 3 parcours VTT et 3 parcours route au depart
 de Rilly-la-Montagne</p>
 
 <p>- 21/06/2026 : retrouvez 2 parcours
 gravel par jour au depart de
 Rilly-la-Montgane</p>
 
 <p>https://asrilly.fr/la-randonnee.html</p>
URL;VALUE=URI:https://www.bikandfun.com/evenements/2026/06/21/les-galipes-champenoises-2429236
END:VEVENT
END:VCALENDAR
