BEGIN:VCALENDAR
VERSION:2.0
PRODID:-//hacksw/handcal//NONSGML v1.0//EN
BEGIN:VEVENT
SUMMARY:Rando Meaux : La montapeine
UID:c5380857-c8dc-443f-8439-7a364be6c89b
DTSTART:20260426T053000Z
DTEND:20260426T110000Z
LOCATION:Localisation chemin de Tournay 77100 MEAUX
CATEGORIES:Sportif
STATUS:
DESCRIPTION:<p>Rando Meaux : La Montapeine 2026</p><p>- 50 kms
 VTT</p><p>100 kms Gravel</p><p>a vous de choisir. Rendez-vous 07h30
 sur place </p><p><br></p>
URL;VALUE=URI:https://www.bikandfun.com/evenements/2026/04/26/rando-meaux-la-montapeine-2442806
END:VEVENT
END:VCALENDAR
