BEGIN:VCALENDAR
VERSION:2.0
PRODID:-//hacksw/handcal//NONSGML v1.0//EN
BEGIN:VEVENT
SUMMARY:St Germain sur Morin
UID:0cd66d13-ff6a-4923-8b7f-0b8a4e181230
DTSTART:20260419T064500Z
DTEND:20260419T103000Z
LOCATION:Localisation KFC Saint Thibault des Vignes 77400 SAINT THIBAULT DES VIGNES
CATEGORIES:Sportif
STATUS:
DESCRIPTION:<p>Un boucle un peu musclee de 45 kms avec 520mD+ sur le
 parcours. Profile plutot Gravel </p>
 
 <p>Prevoir de l'eau...</p>
URL;VALUE=URI:https://www.bikandfun.com/evenements/2026/04/19/st-germain-sur-morin-2441787
END:VEVENT
END:VCALENDAR
