BEGIN:VCALENDAR
VERSION:2.0
PRODID:-//hacksw/handcal//NONSGML v1.0//EN
BEGIN:VEVENT
SUMMARY:Autour du pin
UID:414d5cc2-336a-4b17-bc0d-10eb2060fa0a
DTSTART:20260412T064500Z
DTEND:20260412T101500Z
LOCATION:Localisation Ecluse de Vaires 77360 vaires sur marne
CATEGORIES:Sportif
STATUS:
DESCRIPTION:<p>Une boucle de 41 kms avec 350mD+ en mode tranquille
 avec peu de difficultes :)</p>
URL;VALUE=URI:https://www.bikandfun.com/evenements/2026/04/12/autour-du-pin-2439330
END:VEVENT
END:VCALENDAR
