BEGIN:VCALENDAR
VERSION:2.0
PRODID:-//hacksw/handcal//NONSGML v1.0//EN
BEGIN:VEVENT
SUMMARY:Sortie Improvisee - 2h00
UID:0add9145-5277-4848-81ae-a4fbb0bf44ce
DTSTART:20260406T070000Z
DTEND:20260406T090000Z
LOCATION:Localisation Ecluse de Vaires 77360 vaires sur marne
CATEGORIES:Sportif
STATUS:
DESCRIPTION:<p>Sortie improvisee de 2h pas plus :) </p>
 
 <p>Depart
 de l'ecluse - parcours et distance en fonction des presents le jour
 J</p>
URL;VALUE=URI:https://www.bikandfun.com/evenements/2026/04/06/sortie-improvisee-2h00-2437342
END:VEVENT
END:VCALENDAR
