BEGIN:VCALENDAR
VERSION:2.0
PRODID:-//hacksw/handcal//NONSGML v1.0//EN
BEGIN:VEVENT
SUMMARY:Autour de Poncarre
UID:e6bc34bc-4b33-49f4-932e-9b4bf1a4d4dc
DTSTART:20260405T064500Z
DTEND:20260405T101500Z
LOCATION:Localisation Chocolaterie Parc de noisiel 77186 NOISIEL
CATEGORIES:Sportif
STATUS:
DESCRIPTION:<p>Une boucle de 47 kms tres roulante sans difficultes
 avec 270 mD+. Un tour autour de Poncarre</p>
URL;VALUE=URI:https://www.bikandfun.com/evenements/2026/04/05/autour-de-poncarre-2437328
END:VEVENT
END:VCALENDAR
