BEGIN:VCALENDAR
VERSION:2.0
PRODID:-//hacksw/handcal//NONSGML v1.0//EN
BEGIN:VEVENT
SUMMARY:Piqure douce...
UID:4c0085d2-8efc-4e86-9af3-5e2f9478964b
DTSTART:20260329T070000Z
DTEND:20260329T103000Z
LOCATION:Localisation Ecluse de Vaires 77360 vaires sur marne
CATEGORIES:Sportif
STATUS:
DESCRIPTION:<p>Une boucle de 45 kms et 500mD+ avec un parcours varie
 avec des longues distances de plat et des coups de cul.</p>
 
 <p>Le
 Gravel et VTT seront a l'aise en fonction du niveau :)</p>
 
 <p>A
 Dimanche</p>
URL;VALUE=URI:https://www.bikandfun.com/evenements/2026/03/29/piqure-douce-2434117
END:VEVENT
END:VCALENDAR
