BEGIN:VCALENDAR
VERSION:2.0
PRODID:-//hacksw/handcal//NONSGML v1.0//EN
BEGIN:VEVENT
SUMMARY:Balade tranquille autour de la base :)
UID:afb318c8-411f-476e-96a5-ef6ebaaa8108
DTSTART:20260322T080000Z
DTEND:20260322T110000Z
LOCATION:Localisation Ecluse de Vaires 77360 vaires sur marne
CATEGORIES:Sportif
STATUS:
DESCRIPTION:<p>Une boucle en mode "detente" du Dimanche. 35 kms de
 simplicite pour faire rouler tout le monde. 200mD+ </p>
 
 <p>Pas
 d'excuses pour pas venir ;)</p>
URL;VALUE=URI:https://www.bikandfun.com/evenements/2026/03/22/balade-tranquille-autour-de-la-base-2429235
END:VEVENT
END:VCALENDAR
