BEGIN:VCALENDAR
VERSION:2.0
PRODID:-//hacksw/handcal//NONSGML v1.0//EN
BEGIN:VEVENT
SUMMARY:Sortie improvisee !! vers Tigeaux
UID:f966033b-5e67-4239-a1e8-0e2a7bc6c5f8
DTSTART:20260308T080000Z
DTEND:20260308T113000Z
LOCATION:Localisation Ecluse de Vaires 77360 vaires sur marne
CATEGORIES:Sportif
STATUS:
DESCRIPTION:<p>boucle improvisee en direction de Tigeaux en passant
 par Magny le hongre..VTT recommande</p>
URL;VALUE=URI:https://www.bikandfun.com/evenements/2026/03/08/sortie-improvisee-vers-tigeaux-2424390
END:VEVENT
END:VCALENDAR
